BEGIN:VCALENDAR
VERSION:2.0
PRODID:TU Chemnitz
METHOD:PUBLISH
X-WR-CALNAME:Veranstaltungen der TU Chemnitz
X-WR-TIMEZONE:Europe/Berlin
BEGIN:VEVENT
CLASS:PUBLIC
DTSTART;TZID="Europe/Berlin":20051028T090000
DTEND;TZID="Europe/Berlin":20051028T180000
LOCATION:Str. der Nationen 62\, Chemnitz (Altes Heizhaus)
SUMMARY:"Mehr als ein Jahr nach der EU-Osterweiterung - Konsolidierung oder neue Herausforderungen in den ostmitteleuropäischen Staaten?" 9. Politik- und Regionalwissenschaftliches Symposium (Philosophische Fakultät\, Professuren für Internationale Politik und Sozial- und Wirtschaftsgeographie)
DESCRIPTION:Prof. Dr. Peter Jurczek\, Tel.: 0371/531-4911\, peter.jurczek@phil.tu-chemnitz.de
ORGANIZER:MAILTO:claas.beckord@phil.tu-chemnitz.de
UID:6054@www.tu-chemnitz.de
CREATED:20050418T115600Z
DTSTAMP:20210802T195755Z
END:VEVENT
END:VCALENDAR
