BEGIN:VCALENDAR
VERSION:2.0
PRODID:TU Chemnitz
METHOD:PUBLISH
X-WR-CALNAME:Veranstaltungen der TU Chemnitz
X-WR-TIMEZONE:Europe/Berlin
BEGIN:VEVENT
CLASS:PUBLIC
DTSTART;TZID="Europe/Berlin":20050415T210000
DTEND;TZID="Europe/Berlin":20050416T020000
LOCATION:Reichenhainer Str. 37/Keller
SUMMARY:SalsaNight im PEB (PEB-Studentenkeller)
DESCRIPTION:Heiße Rhythmen\, coole Cocktails\,\nes ist wieder SALSA-Night im Peb.\nWer den Dreh noch nicht raus hat\,\nbekommt noch einen kostenlosen Tanzkurs von DJ Jose!\n\nWir freuen uns auf Euren Besuch!
ORGANIZER:MAILTO:mahub@hrz.tu-chemnitz.de
UID:6043@www.tu-chemnitz.de
CREATED:20050414T140400Z
DTSTAMP:20210802T200019Z
END:VEVENT
END:VCALENDAR
