BEGIN:VCALENDAR
VERSION:2.0
PRODID:TU Chemnitz
METHOD:PUBLISH
X-WR-CALNAME:Veranstaltungen der TU Chemnitz
X-WR-TIMEZONE:Europe/Berlin
BEGIN:VEVENT
CLASS:PUBLIC
DTSTART;TZID="Europe/Berlin":20050422T113000
DTEND;TZID="Europe/Berlin":20050422T130000
LOCATION:Erfenschlager Str. 73\, Chemnitz
SUMMARY:Vortragsreihe "Wissenschaft und Praxis"\, Auftaktveranstaltung (Fakultät für Maschinenbau\, Professur Arbeitswissenschaft)
DESCRIPTION:Prof. Dr. Nieschmidt\, Experte in Arbeits- und Führungsfragen\, spricht über \n„Tradition und Zukunft von Arbeit und Führung“. \n\nProf. Dr. Peter Nieschmidt\nKerstin Rockstroh\, Tel.: 531 5308\, kerstin.rockstroh@mb.tu-chemnitz.de
ORGANIZER:MAILTO:b.seifert@mb.tu-chemnitz.de
UID:6038@www.tu-chemnitz.de
CREATED:20050413T105300Z
DTSTAMP:20210802T200016Z
END:VEVENT
END:VCALENDAR
