BEGIN:VCALENDAR
VERSION:2.0
PRODID:TU Chemnitz
METHOD:PUBLISH
X-WR-CALNAME:Veranstaltungen der TU Chemnitz
X-WR-TIMEZONE:Europe/Berlin
BEGIN:VEVENT
CLASS:PUBLIC
DTSTART;TZID="Europe/Berlin":20050629T171500
DTEND;TZID="Europe/Berlin":20050629T184500
LOCATION:Reichenhainer Str. 90\, Chemnitz (Zentr. Hörsaal- und Seminargebäude)
SUMMARY:Physikalisches Kolloquium: Die Suche nach der dunklen Materie (Fakultät für Naturwissenschaften\, Institut für Physik)
DESCRIPTION:Prof. Dr. Josef Jochum; Eberhard Karls Universität Tübingen\, Subatomare Physik\nDr. Klaus Morawetz\, Tel: 531-3146
ORGANIZER:MAILTO:michaela.knierim@physik.tu-chemnitz.de
UID:6035@www.tu-chemnitz.de
CREATED:20050412T155000Z
DTSTAMP:20210802T195929Z
END:VEVENT
END:VCALENDAR
