BEGIN:VCALENDAR
VERSION:2.0
PRODID:TU Chemnitz
METHOD:PUBLISH
X-WR-CALNAME:Veranstaltungen der TU Chemnitz
X-WR-TIMEZONE:Europe/Berlin
BEGIN:VEVENT
CLASS:PUBLIC
DTSTART;TZID="Europe/Berlin":20050412T213000
DTEND;TZID="Europe/Berlin":20050413T020000
LOCATION:Reichenhainer Str.37
SUMMARY:All-inclusive Party im PEB (PEB-Studentenkeller)
DESCRIPTION:Die erste All-inclusive Party im PEB. Bezahlt einmal 8 € am Einlaß und alle Getränke sind frei. DJ Fouque sorgt für gute Unterhaltung.\n\nP.S.: Wie immer noch Glaspfand 1\,50€ !!!\nPEB-Studentenkeller
ORGANIZER:MAILTO:kkru@mathematik.tu-chemnitz.de
UID:6018@www.tu-chemnitz.de
CREATED:20050406T181100Z
DTSTAMP:20210802T200023Z
END:VEVENT
END:VCALENDAR
