BEGIN:VCALENDAR
VERSION:2.0
PRODID:TU Chemnitz
METHOD:PUBLISH
X-WR-CALNAME:Veranstaltungen der TU Chemnitz
X-WR-TIMEZONE:Europe/Berlin
BEGIN:VEVENT
CLASS:PUBLIC
DTSTART;TZID="Europe/Berlin":20050407T210000
DTEND;TZID="Europe/Berlin":20050407T230000
LOCATION:Kino\, Reichenhainer Str. 35/37
SUMMARY:[Kino * "mittendrin"] Der Tango der Rashevskis  (Filmclub "mittendrin")
DESCRIPTION:Nach dem Tod der Großmutter Rosa brechen in der Familie Rashevski alter Hass und neue Liebe aus. Rundum gelungene jüdische Familiengeschichte aus dem heutigen Belgien.\n20.30 Einlass \n21.00 Film
ORGANIZER:MAILTO:schneide@hrz.tu-chemnitz.de
UID:6014@www.tu-chemnitz.de
CREATED:20050405T225300Z
DTSTAMP:20210802T200024Z
END:VEVENT
END:VCALENDAR
