BEGIN:VCALENDAR
VERSION:2.0
PRODID:TU Chemnitz
METHOD:PUBLISH
X-WR-CALNAME:Veranstaltungen der TU Chemnitz
X-WR-TIMEZONE:Europe/Berlin
BEGIN:VEVENT
CLASS:PUBLIC
DTSTART;TZID="Europe/Berlin":19980701T183000
DTEND;TZID="Europe/Berlin":19980701T183000
LOCATION:\, Chemnitz
SUMMARY:Frauenringvorlesung "Männerkörper - Frauenkörper": "Körperstrategien im Leistungssport"  (\,  Philosophische Fakultät\, Fachgebiet Germanistik)
DESCRIPTION:Dr. Gabriele Sobiech\, Münster\nDr. Margarete Hubrath\,Tel. 5 31-29 26
ORGANIZER:MAILTO:fri@hrz
UID:6@www.tu-chemnitz.de
CREATED:00Z
DTSTAMP:20210802T203617Z
END:VEVENT
END:VCALENDAR
