BEGIN:VCALENDAR
VERSION:2.0
PRODID:TU Chemnitz
METHOD:PUBLISH
X-WR-CALNAME:Veranstaltungen der TU Chemnitz
X-WR-TIMEZONE:Europe/Berlin
BEGIN:VEVENT
CLASS:PUBLIC
DTSTART;TZID="Europe/Berlin":20050419T171500
DTEND;TZID="Europe/Berlin":20050419T184500
LOCATION:Wilhelm-Raabe-Str. 43\, Chemnitz
SUMMARY:Psychologiekolloquium:"A Cross-Cultural Study of Relationships Between Daily Events and Daily Well-Being" (Philosophische Fakultät\, Institut für Psychologie)
DESCRIPTION:Prof. Dr. John B. Nezlek\, College of William & Mary
ORGANIZER:MAILTO:petra.fladerer@phil.tu-chemnitz.de
UID:5995@www.tu-chemnitz.de
CREATED:20050331T143900Z
DTSTAMP:20210802T200014Z
END:VEVENT
END:VCALENDAR
