BEGIN:VCALENDAR
VERSION:2.0
PRODID:TU Chemnitz
METHOD:PUBLISH
X-WR-CALNAME:Veranstaltungen der TU Chemnitz
X-WR-TIMEZONE:Europe/Berlin
BEGIN:VEVENT
CLASS:PUBLIC
DTSTART;TZID="Europe/Berlin":19990713T163000
DTEND;TZID="Europe/Berlin":19990713T190000
LOCATION:Uni-Teil 3: Reichenhainer Str. 70\, Chemnitz (Zentr. Hörsaal- und Seminargebäude)
SUMMARY:Existenzgründerforum (Fakultät für Wirtschaftswissenschaften\, Professur für Unternehmensgründung)
DESCRIPTION:Chancen und Risiken beim Weg zu neuen Arbeitsformen\nJunge Unternehmer berichten über ihre Erfahrungen und geben Tips für einen erfolgreichen Start in die Selbständigkeit\nHerr Riedel / Leiter des Arbeitskreises Existenzgründung\nFritz Zimmermann Tel.531-8070 oder Hochschulteam 567-2512
ORGANIZER:MAILTO:zimmerma@hrz.tu-chemnitz.de
UID:599@www.tu-chemnitz.de
CREATED:19990709T134500Z
DTSTAMP:20210802T203401Z
END:VEVENT
END:VCALENDAR
