BEGIN:VCALENDAR
VERSION:2.0
PRODID:TU Chemnitz
METHOD:PUBLISH
X-WR-CALNAME:Veranstaltungen der TU Chemnitz
X-WR-TIMEZONE:Europe/Berlin
BEGIN:VEVENT
CLASS:PUBLIC
DTSTART;TZID="Europe/Berlin":20050629T173000
DTEND;TZID="Europe/Berlin":20050629T173000
LOCATION:Str. der Nationen 62\, Chemnitz (Böttcher-Bau)
SUMMARY:Vortragsreihe Medizin im Spannungsfeld zwischen Wissenschaft und Gesellschaft: "Viele Frauen entscheiden sich für den Kaiserschnitt\, um ihre Figur zu erhalten. Wird die "natürliche Geburt" nach und nach verdrängt?"" (TU Chemnitz\, Klinikum Chemnitz gGmbH)
DESCRIPTION:Prof. Dr. med. habil. Thomas Steck\, Chefarzt der Frauenklinik\, Klinikum Chemnitz gGmbH\nProf. Dr. med. habil. Johannes Schweizer\, Tel. 0371/333 42500\, j.schweizer@skc.de
ORGANIZER:MAILTO:iroe@hrz.tu-chemnitz.de
UID:5983@www.tu-chemnitz.de
CREATED:20050329T100700Z
DTSTAMP:20210802T195920Z
END:VEVENT
END:VCALENDAR
