BEGIN:VCALENDAR
VERSION:2.0
PRODID:TU Chemnitz
METHOD:PUBLISH
X-WR-CALNAME:Veranstaltungen der TU Chemnitz
X-WR-TIMEZONE:Europe/Berlin
BEGIN:VEVENT
CLASS:PUBLIC
DTSTART;TZID="Europe/Berlin":20050329T200000
DTEND;TZID="Europe/Berlin":20050329T235900
LOCATION:Reichenhainer Str. 55\, Chemnitz (Mensa)
SUMMARY:TaC: Semesterauftaktkneipe (TaC)
DESCRIPTION:Das Semester geht halt wieder los...und da gehts Dienstag´s\nmit großem Bier für 99 Cent und Billiard\, Dart und Kicker for free\nin den TaC...und dazu noch einige Cocktail-Specials...oder \nEnergy Xi Wodka....für 1\,99 EUR
ORGANIZER:MAILTO:made@hrz.tu-chemnitz.de
UID:5981@www.tu-chemnitz.de
CREATED:20050329T093000Z
DTSTAMP:20210802T200227Z
END:VEVENT
END:VCALENDAR
