BEGIN:VCALENDAR
VERSION:2.0
PRODID:TU Chemnitz
METHOD:PUBLISH
X-WR-CALNAME:Veranstaltungen der TU Chemnitz
X-WR-TIMEZONE:Europe/Berlin
BEGIN:VEVENT
CLASS:PUBLIC
DTSTART;TZID="Europe/Berlin":20050330T173000
DTEND;TZID="Europe/Berlin":20050330T173000
LOCATION:Str. der Nationen 62\, Chemnitz (Böttcher-Bau)
SUMMARY:Vortragsreihe Medizin im Spannungsfeld zwischen Wissenschaft und Gesellschaft: "Zukunft der Telemedizin in der Kardiologie" (TU Chemnitz\, Klinikum Chemnitz gGmbH)
DESCRIPTION: Achtung: \nDer Vortrag von PD Dr.med.habil.Erich Kasten zum Thema "Visuelle Halluzinationen" entfällt. Herr OA Dr. Axel Müller wird dafür den o.g. Vortrag halten.\nOberarzt Dr. med. Axel Müller\, Klinikum Chemnitz gGmbH\nProf. Dr. med. habil. Johannes Schweizer\, Tel. 0371/333 42500\, j.schweizer@skc.de
ORGANIZER:MAILTO:iroe@hrz.tu-chemnitz.de
UID:5979@www.tu-chemnitz.de
CREATED:20050329T090100Z
DTSTAMP:20210802T200227Z
END:VEVENT
END:VCALENDAR
