BEGIN:VCALENDAR
VERSION:2.0
PRODID:TU Chemnitz
METHOD:PUBLISH
X-WR-CALNAME:Veranstaltungen der TU Chemnitz
X-WR-TIMEZONE:Europe/Berlin
BEGIN:VEVENT
CLASS:PUBLIC
DTSTART;TZID="Europe/Berlin":20050421T160000
DTEND;TZID="Europe/Berlin":20050421T180000
LOCATION:Str. der Nationen 62\, Chemnitz (Böttcher-Bau)
SUMMARY:Hierarchische Formen durch Selbstorganisation: Morphogenese von Nanoapatit-Gelatine-Kompositen (Fakultät für Naturwissenschaften\, Institut für Chemie gemeinsam mit dem Ortsverband Chemnitz der Gesellschaft Deutscher Chemiker)
DESCRIPTION:Prof. Dr. R. Kniep\, Max-Planck-Institut für die Chemische Physik fester Stoffe\, Dresden\nProf. Dr. R. Holze\, Technische Universität Chemnitz\, fon: 0371 531 1509\, e-mail: rudolf.holze@chemie.tu-chemnitz.de
ORGANIZER:MAILTO:elke.rahm@chemie.tu-chemnitz.de
UID:5963@www.tu-chemnitz.de
CREATED:20050321T120100Z
DTSTAMP:20210802T200018Z
END:VEVENT
END:VCALENDAR
