BEGIN:VCALENDAR
VERSION:2.0
PRODID:TU Chemnitz
METHOD:PUBLISH
X-WR-CALNAME:Veranstaltungen der TU Chemnitz
X-WR-TIMEZONE:Europe/Berlin
BEGIN:VEVENT
CLASS:PUBLIC
DTSTART;TZID="Europe/Berlin":20050316T180000
DTEND;TZID="Europe/Berlin":20050316T200000
LOCATION:Soziokulturelles Zentrum QUER BEET\, Rosenplatz 4\, 09126 Chemnitz
SUMMARY:IMPERIALISTISCHER HUMANISMUS - Zur Tradition des "gerechten Krieges" von Aristoteles bis Bush (Rosa-Luxemburg-Stiftung Sachsen e.V.)
DESCRIPTION:Gibt es "Gerechte Kriege"? Wie weden sie gerechtfertigt? Gibt es Parallelen zwischen dem Heute und der Antike?\nGeorg Jochum spricht unter anderem über ein  Europa zwischen egalitärem und  hierarchischem Humanismus.\nDipl. Soziologe Georg Jochum (TU Chemnitz)\n0271 / 5382718 Eintritt frei
ORGANIZER:MAILTO:tki@hrz.tu-chemnitz.de
UID:5929@www.tu-chemnitz.de
CREATED:20050316T111500Z
DTSTAMP:20210802T200229Z
END:VEVENT
END:VCALENDAR
