BEGIN:VCALENDAR
VERSION:2.0
PRODID:TU Chemnitz
METHOD:PUBLISH
X-WR-CALNAME:Veranstaltungen der TU Chemnitz
X-WR-TIMEZONE:Europe/Berlin
BEGIN:VEVENT
CLASS:PUBLIC
DTSTART;TZID="Europe/Berlin":20050419T163000
DTEND;TZID="Europe/Berlin":20050419T163000
LOCATION:FhG Institut für Werkzeugmaschinen und Umformtechnik\, Reichenhainer Straße 88\,
SUMMARY:Walzverfahren zur Herstellung von Fertigteilen und Werkstoffverhalten bei zyklischer Beanspruchung (TU Chemnitz\, AWT-/VDI-W-Arbeitskreis Wärmebehandlung und Werkstofftechnik Chemnitz)
DESCRIPTION:Dr. Bernd Lorenz\, FhG IWU Chemnitz\, Dr. Bohuslav Masek\, Dipl.-Ing. Hana Stankova\, Westböhmische Universität Plsen\nulrich.thieme@t-online.de
ORGANIZER:MAILTO:iroe@hrz.tu-chemnitz.de
UID:5911@www.tu-chemnitz.de
CREATED:20050308T083100Z
DTSTAMP:20210802T200014Z
END:VEVENT
END:VCALENDAR
