BEGIN:VCALENDAR
VERSION:2.0
PRODID:TU Chemnitz
METHOD:PUBLISH
X-WR-CALNAME:Veranstaltungen der TU Chemnitz
X-WR-TIMEZONE:Europe/Berlin
BEGIN:VEVENT
CLASS:PUBLIC
DTSTART;TZID="Europe/Berlin":20050313T150000
DTEND;TZID="Europe/Berlin":20050313T200000
LOCATION:Reichenhainer Str. 55\, Chemnitz (Mensa)
SUMMARY:TaC: Sportkneipe: Schalke-Bayern (TaC)
DESCRIPTION:ab 15:00 Uhr die II. Liga ... es wird in Konferenz zu Dortmund-Stuttgart geschaut
ORGANIZER:MAILTO:made@hrz.tu-chemnitz.de
UID:5909@www.tu-chemnitz.de
CREATED:20050307T085900Z
DTSTAMP:20210802T200231Z
END:VEVENT
END:VCALENDAR
