BEGIN:VCALENDAR
VERSION:2.0
PRODID:TU Chemnitz
METHOD:PUBLISH
X-WR-CALNAME:Veranstaltungen der TU Chemnitz
X-WR-TIMEZONE:Europe/Berlin
BEGIN:VEVENT
CLASS:PUBLIC
DTSTART;TZID="Europe/Berlin":20050309T200000
DTEND;TZID="Europe/Berlin":20050309T235900
LOCATION:Reichenhainer Str. 55\, Chemnitz (Mensa)
SUMMARY:TaC: Sportkneipe (TaC)
DESCRIPTION:...es wird live London gegen Bayern gezeigt und \nwird auch live zu Leverkusen geschaltet...und natürlich wird das Gewinnspiel ausgwertet...
ORGANIZER:MAILTO:made@hrz.tu-chemnitz.de
UID:5907@www.tu-chemnitz.de
CREATED:20050307T085600Z
DTSTAMP:20210802T200226Z
END:VEVENT
END:VCALENDAR
