BEGIN:VCALENDAR
VERSION:2.0
PRODID:TU Chemnitz
METHOD:PUBLISH
X-WR-CALNAME:Veranstaltungen der TU Chemnitz
X-WR-TIMEZONE:Europe/Berlin
BEGIN:VEVENT
CLASS:PUBLIC
DTSTART;TZID="Europe/Berlin":20050331T210000
DTEND;TZID="Europe/Berlin":20050331T230000
LOCATION:Kino\, Reichenhainer Str. 35/37
SUMMARY:[Kino * "mittendrin"] Die Grauzone (TU Chemnitz\, Filmclub "mittendrin")
DESCRIPTION:Ein echtes Meisterwerk: Tim Blake Nelsons Film „Die Grauzone“ macht den Aufstand 1944 in Auschwitz zum Thema.\n\nEinlass: 20.30\, Film: 21.00
ORGANIZER:MAILTO:schneide@hrz.tu-chemnitz.de
UID:5902@www.tu-chemnitz.de
CREATED:20050303T003300Z
DTSTAMP:20210802T200228Z
END:VEVENT
END:VCALENDAR
