BEGIN:VCALENDAR
VERSION:2.0
PRODID:TU Chemnitz
METHOD:PUBLISH
X-WR-CALNAME:Veranstaltungen der TU Chemnitz
X-WR-TIMEZONE:Europe/Berlin
BEGIN:VEVENT
CLASS:PUBLIC
DTSTART;TZID="Europe/Berlin":20050410T160000
DTEND;TZID="Europe/Berlin":20050424T220000
LOCATION:imTietz\, ab dem 26. 04- 06.05 wird die Ausstellung im Regierungspräsidium fortgeführt
SUMMARY:Bilderbrücke über Grenzen hinweg (Fotoausstellung) (ein Projekt im Rahmen des Theodor-Heuss-Kollegs der Robert Bosch Stiftung)
DESCRIPTION:Trinationale Fotoausstellung  Info über Moldau und Ukraine!\nFotografien zu den Themen "Alltagsleben"\, "Schönheiten des Landes" und "Das muss verbessert werden" von Studierenden in Chrisinau (Moldau)\, Chernivtsi (Ukraine)und Chemnitz zusammengestellt.\nzur Eröffnung: Frau Prof. Dr. Neuss\, der Oberbürgermeister und die Kulturattaches aus Moldau und der Ukraine sind eingeladen
ORGANIZER:MAILTO:nele.asche@s2003.tu-chemnitz.de
UID:5872@www.tu-chemnitz.de
CREATED:20050223T121300Z
DTSTAMP:20210802T200017Z
END:VEVENT
END:VCALENDAR
