BEGIN:VCALENDAR
VERSION:2.0
PRODID:TU Chemnitz
METHOD:PUBLISH
X-WR-CALNAME:Veranstaltungen der TU Chemnitz
X-WR-TIMEZONE:Europe/Berlin
BEGIN:VEVENT
CLASS:PUBLIC
DTSTART;TZID="Europe/Berlin":20051113T160000
DTEND;TZID="Europe/Berlin":20051113T180000
LOCATION:Markuskirche Chemnitz auf dem Sonnenberg
SUMMARY: Festkonzert zum 15-jährigen Bestehen des Motettenchores der TU Chemnitz (Collegium musicum und Motettenchor der TU Chemnitz)
DESCRIPTION:Programm: Werke von Mendelssohn\, Brahms\, Rossini und Mozart
ORGANIZER:MAILTO:meh@hrz.tu-chemnitz.de
UID:5857@www.tu-chemnitz.de
CREATED:20050210T102700Z
DTSTAMP:20210802T195651Z
END:VEVENT
END:VCALENDAR
