BEGIN:VCALENDAR
VERSION:2.0
PRODID:TU Chemnitz
METHOD:PUBLISH
X-WR-CALNAME:Veranstaltungen der TU Chemnitz
X-WR-TIMEZONE:Europe/Berlin
BEGIN:VEVENT
CLASS:PUBLIC
DTSTART;TZID="Europe/Berlin":20050222T173000
DTEND;TZID="Europe/Berlin":20050222T190000
LOCATION:Str. der Nationen 62\, Chemnitz (Böttcher-Bau)
SUMMARY:UNIX-Stammtisch in Sachsen (Universitätsrechenzentrum)
DESCRIPTION:Mit Muscheln gegen Viren\nSirko Kemter von der Chemnitzer Firma teegee\nHerr Ehrig\, Tel. 531 1525
ORGANIZER:MAILTO:imu@hrz.tu-chemnitz.de
UID:5850@www.tu-chemnitz.de
CREATED:20050203T094300Z
DTSTAMP:20210802T200341Z
END:VEVENT
END:VCALENDAR
