BEGIN:VCALENDAR
VERSION:2.0
PRODID:TU Chemnitz
METHOD:PUBLISH
X-WR-CALNAME:Veranstaltungen der TU Chemnitz
X-WR-TIMEZONE:Europe/Berlin
BEGIN:VEVENT
CLASS:PUBLIC
DTSTART;TZID="Europe/Berlin":20050201T210000
DTEND;TZID="Europe/Berlin":20050201T235900
LOCATION:Vettersstr. 52/54\, Chemnitz (Studentenwohnheim)
SUMMARY:Just Metal (windKanal)
DESCRIPTION:Metal und sonstige Gitarrenmusike :)
ORGANIZER:MAILTO:welz@hrz.tu-chemnitz.de
UID:5847@www.tu-chemnitz.de
CREATED:20050201T174800Z
DTSTAMP:20210802T200342Z
END:VEVENT
END:VCALENDAR
