BEGIN:VCALENDAR
VERSION:2.0
PRODID:TU Chemnitz
METHOD:PUBLISH
X-WR-CALNAME:Veranstaltungen der TU Chemnitz
X-WR-TIMEZONE:Europe/Berlin
BEGIN:VEVENT
CLASS:PUBLIC
DTSTART;TZID="Europe/Berlin":20050202T113000
DTEND;TZID="Europe/Berlin":20050202T130000
LOCATION:Reichenhainer Str. 90\, Chemnitz (Zentr. Hörsaal- und Seminargebäude)
SUMMARY:Was macht ein General Manager? (Fakultät für Wirtschaftswissenschaften\, Professur für Organisation)
DESCRIPTION:Vorträge und Diskussion zum Thema - Was macht ein General Mangager? \n(Praxisberichte und Stellenbeschreibungen)\nFr. Hillenbrandt\, MICAS AG\, Hr. Grosse\, KOMSA AG
ORGANIZER:MAILTO:annett.schmidt@wirtschaft.tu-chemnitz.de
UID:5846@www.tu-chemnitz.de
CREATED:20050201T154100Z
DTSTAMP:20210802T200340Z
END:VEVENT
END:VCALENDAR
