BEGIN:VCALENDAR
VERSION:2.0
PRODID:TU Chemnitz
METHOD:PUBLISH
X-WR-CALNAME:Veranstaltungen der TU Chemnitz
X-WR-TIMEZONE:Europe/Berlin
BEGIN:VEVENT
CLASS:PUBLIC
DTSTART;TZID="Europe/Berlin":19990707T100000
DTEND;TZID="Europe/Berlin":19990707T120000
LOCATION:Institut für Mechatronik\, Seminarraum
SUMMARY:Some Applications of the Simulation Tool alaska in Non-Linear Dynamics (Institut für Mechatronik an der TU Chemnitz)
DESCRIPTION:Prof. Dr. Menh ist der Direktor des Instituts für Mechanik am Nationalen Forschungszentrum\nfür Naturwissenschaften und Techologie in Hanoi\, Vietnam.\nDie Veranstaltung findet im Rahmen des 'Institutskolloquiums 1999' des IfM statt.\nProf. Dr. habil. Nguyen Cao Menh\nFrau Hoppe\, Tel.: (0371) 531-4671
ORGANIZER:MAILTO:hfreu@hrz.tu-chemnitz.de
UID:584@www.tu-chemnitz.de
CREATED:19990622T081300Z
DTSTAMP:20210802T203403Z
END:VEVENT
END:VCALENDAR
