BEGIN:VCALENDAR
VERSION:2.0
PRODID:TU Chemnitz
METHOD:PUBLISH
X-WR-CALNAME:Veranstaltungen der TU Chemnitz
X-WR-TIMEZONE:Europe/Berlin
BEGIN:VEVENT
CLASS:PUBLIC
DTSTART;TZID="Europe/Berlin":20050228T210000
DTEND;TZID="Europe/Berlin":20050228T235900
LOCATION:Reichenhainer Str. 37/Keller
SUMMARY:Blue Monday (PEB-Studentenkeller)
DESCRIPTION:Blue Monday - DJ Anne versüßt Euch den Start in die vorlesungsfreie Zeit mit Blues\, Jazz und Soul!\n\nDazu gibts wie bei jeder Montagskneipe gewohnt günstige Getränke!\nDJ Anne
ORGANIZER:MAILTO:mahub@hrz.tu-chemnitz.de
UID:5834@www.tu-chemnitz.de
CREATED:20050130T151300Z
DTSTAMP:20210802T200340Z
END:VEVENT
END:VCALENDAR
