BEGIN:VCALENDAR
VERSION:2.0
PRODID:TU Chemnitz
METHOD:PUBLISH
X-WR-CALNAME:Veranstaltungen der TU Chemnitz
X-WR-TIMEZONE:Europe/Berlin
BEGIN:VEVENT
CLASS:PUBLIC
DTSTART;TZID="Europe/Berlin":20050202T171500
DTEND;TZID="Europe/Berlin":20050202T184500
LOCATION:Reichenhainer Str. 70\, Chemnitz (Rühlmann-Bau)
SUMMARY:Medientechnisches Kolloquium:  (Fakultät für Maschinenbau\, Institut für Print- und Medientechnik)
DESCRIPTION:Thema: "Stand der Technik bei Bogendruckmaschinen mit Schwerpunkt auf Offset-Kurzfarbwerken"\nDipl.-Ing. Arndt Jentzsch (Radebeul der Koenig & Bauer AG - KBA Planeta)
ORGANIZER:MAILTO:monique.brucke@phil.tu-chemnitz.de
UID:5833@www.tu-chemnitz.de
CREATED:20050128T115800Z
DTSTAMP:20210802T200346Z
END:VEVENT
END:VCALENDAR
