BEGIN:VCALENDAR
VERSION:2.0
PRODID:TU Chemnitz
METHOD:PUBLISH
X-WR-CALNAME:Veranstaltungen der TU Chemnitz
X-WR-TIMEZONE:Europe/Berlin
BEGIN:VEVENT
CLASS:PUBLIC
DTSTART;TZID="Europe/Berlin":20050203T210000
DTEND;TZID="Europe/Berlin":20050203T233000
LOCATION:Kino\, Reichenhainer Str. 35/37
SUMMARY:[Kino * "mittendrin"] Der Manchurian Kandidat  (Filmclub "mittendrin")
DESCRIPTION:Comeback von Jonathan Demme (Das Schweigen der Lämmer) mit einem angesagten Thema. Ein schwarzer Präsidentschaftskandidat kaut noch an seiner Kriegsvergangenheit. Mit Denzel Washington in der Hauptrolle.\nEinlass 20.30\, Beginn 21.00
ORGANIZER:MAILTO:schneide@hrz.tu-chemnitz.de
UID:5813@www.tu-chemnitz.de
CREATED:20050126T140800Z
DTSTAMP:20210802T200346Z
END:VEVENT
END:VCALENDAR
