BEGIN:VCALENDAR
VERSION:2.0
PRODID:TU Chemnitz
METHOD:PUBLISH
X-WR-CALNAME:Veranstaltungen der TU Chemnitz
X-WR-TIMEZONE:Europe/Berlin
BEGIN:VEVENT
CLASS:PUBLIC
DTSTART;TZID="Europe/Berlin":20050126T190000
DTEND;TZID="Europe/Berlin":20050126T190000
LOCATION:Reichenhainer Str. 70\, Chemnitz (Weinhold-Bau)
SUMMARY:Wie umgehen mit Rechtsextremen in der sächsischen Politik? (Grüne Hochschulgruppe an der TU Chemnitz)
DESCRIPTION:Offene Diskussion mit:\nJohannes Lichdi (Mdl\, Bündnis 90/DIE GRÜNEN)\nProf. Eckhard Jesse (TU Chemnitz\, Politikwissenschaftler)\nPetra Zais (Mobiles Beratungsteam des Kulturbüro Sachsen)\ninfo@gruene-jugend-chemnitz.de
ORGANIZER:MAILTO:tika@hrz.tu-chemnitz.de
UID:5798@www.tu-chemnitz.de
CREATED:20050121T103900Z
DTSTAMP:20210802T200410Z
END:VEVENT
END:VCALENDAR
