BEGIN:VCALENDAR
VERSION:2.0
PRODID:TU Chemnitz
METHOD:PUBLISH
X-WR-CALNAME:Veranstaltungen der TU Chemnitz
X-WR-TIMEZONE:Europe/Berlin
BEGIN:VEVENT
CLASS:PUBLIC
DTSTART;TZID="Europe/Berlin":20050121T200000
DTEND;TZID="Europe/Berlin":20050121T235900
LOCATION:Reichenhainer Str. 55\, Chemnitz (Mensa)
SUMMARY:TaC: Bundesliga Hamburg - Bayern (TaC)
DESCRIPTION:Jou...wer Lust auf Bundesliga hat ist am \nFreitag abend im TaC richtig und im \ngroßen Saal ein Spielchen wagen !!!
ORGANIZER:MAILTO:made@hrz.tu-chemnitz.de
UID:5791@www.tu-chemnitz.de
CREATED:20050120T091100Z
DTSTAMP:20210802T200404Z
END:VEVENT
END:VCALENDAR
