BEGIN:VCALENDAR
VERSION:2.0
PRODID:TU Chemnitz
METHOD:PUBLISH
X-WR-CALNAME:Veranstaltungen der TU Chemnitz
X-WR-TIMEZONE:Europe/Berlin
BEGIN:VEVENT
CLASS:PUBLIC
DTSTART;TZID="Europe/Berlin":20050303T200000
DTEND;TZID="Europe/Berlin":20050303T220000
LOCATION:Str. der Nationen 62\, Chemnitz (Böttcher-Bau)
SUMMARY:AgricolaFORUM (TU Chemnitz)
DESCRIPTION:Zu den Fundamenten des christlichen Glaubens gehört das Bekenntnis\, daß Gott nicht nur ein Gott der Lebenden\, sondern selbst das Leben ist. Wie steht es um Gott und um das Leben?\nProf. Dr. Johannes Soukup (Plauen)\nTU Chemnitz\, Prof. Dr. Naumann\, Telefon (03 71) 5 31 - 40 61\, sowie Prof. Dr. Schreiber und Dr. Morawetz\, Telefon (03 71) 5 31
ORGANIZER:MAILTO:friedrich.naumann@phil.tu-chemnitz.de
UID:5790@www.tu-chemnitz.de
CREATED:20050119T153100Z
DTSTAMP:20210802T200229Z
END:VEVENT
END:VCALENDAR
