BEGIN:VCALENDAR
VERSION:2.0
PRODID:TU Chemnitz
METHOD:PUBLISH
X-WR-CALNAME:Veranstaltungen der TU Chemnitz
X-WR-TIMEZONE:Europe/Berlin
BEGIN:VEVENT
CLASS:PUBLIC
DTSTART;TZID="Europe/Berlin":20050212T150000
DTEND;TZID="Europe/Berlin":20050212T180000
LOCATION:Reichenhainer Str. 55\, Chemnitz (Mensa)
SUMMARY:TaC: Bundesliga in Konferenzschaltung (TaC)
DESCRIPTION:Wie immer Samstag ab 15:00 Uhr im TaC: Die Bundesliga \nin Konferenz auf Großleinwand\nund mit studentischen Getränkepreisen. Jagt die Bayern ...smili !!!
ORGANIZER:MAILTO:made@hrz.tu-chemnitz
UID:5773@www.tu-chemnitz.de
CREATED:20050117T161200Z
DTSTAMP:20210802T200341Z
END:VEVENT
END:VCALENDAR
