BEGIN:VCALENDAR
VERSION:2.0
PRODID:TU Chemnitz
METHOD:PUBLISH
X-WR-CALNAME:Veranstaltungen der TU Chemnitz
X-WR-TIMEZONE:Europe/Berlin
BEGIN:VEVENT
CLASS:PUBLIC
DTSTART;TZID="Europe/Berlin":20050117T200000
DTEND;TZID="Europe/Berlin":20050117T220000
LOCATION:Reichenhainer Str. 55\, Chemnitz (Mensa)
SUMMARY:IN DUBIO - Podiumsdiskussion: "Was ist mein Diplom nach der Umstellung auf Bachelor / Master wert?" (Studentenrat)
DESCRIPTION:\nEine Podiumsdiskussion zum Thema: \n"Was ist mein Diplom nach der Umstellung auf BA/MA wert?" \n\nPodium:\n o Annerose Gulbins\n  (fzs-Vorstand)\n o Prof. Dr. Lang\n  (ehem. Prorektor für Lehre und Studium der TU Chemnitz)\n o Prof. Dr. Heinz Menzzer\n  (GEW)\nPodiumsdiskussion\nwww.stura.tu-chemnitz.de
ORGANIZER:MAILTO:resv@hrz
UID:5767@www.tu-chemnitz.de
CREATED:20050117T102600Z
DTSTAMP:20210802T200407Z
END:VEVENT
END:VCALENDAR
