BEGIN:VCALENDAR
VERSION:2.0
PRODID:TU Chemnitz
METHOD:PUBLISH
X-WR-CALNAME:Veranstaltungen der TU Chemnitz
X-WR-TIMEZONE:Europe/Berlin
BEGIN:VEVENT
CLASS:PUBLIC
DTSTART;TZID="Europe/Berlin":20050124T140000
DTEND;TZID="Europe/Berlin":20050124T180000
LOCATION:IHK SWS / Straße der Nationen 25 / Raum 404
SUMMARY:Grundkurs "Markt und Marketing" (IHK Südwestsachsen)
DESCRIPTION:Basisinfos für Existenzgründer ohne Vorkenntnisse:\n\n* Was ist Marketing?\n* Marktanalyse und Segmentierung\n* Wettbewerbsanalyse\n* Marketinginstrumente\n* Vertriebsstrategien\n* Geschäftsmodell und Unternehmensorganisation\n\nKostenfrei.\nJörg Holzmüller\nAnmeldung unter www.futuresax.de oder 01803/306030
ORGANIZER:MAILTO:lutz.graner@phil.tu-chemnitz.de
UID:5761@www.tu-chemnitz.de
CREATED:20050114T154600Z
DTSTAMP:20210802T200403Z
END:VEVENT
END:VCALENDAR
