BEGIN:VCALENDAR
VERSION:2.0
PRODID:TU Chemnitz
METHOD:PUBLISH
X-WR-CALNAME:Veranstaltungen der TU Chemnitz
X-WR-TIMEZONE:Europe/Berlin
BEGIN:VEVENT
CLASS:PUBLIC
DTSTART;TZID="Europe/Berlin":20050118T160000
DTEND;TZID="Europe/Berlin":20050118T173000
LOCATION:Reichenhainer Str. 90\, Chemnitz (Zentr. Hörsaal- und Seminargebäude)
SUMMARY:SixSigma – Methodik und Weg zum Problemlösungsmanagemen (Fakultät für Maschinenbau\, Institut für Allg. Maschinenbau und Kunststofftechnik in Zusammenarbeit mit der Deutschen Gesellschaft für Qualität (DGQ))
DESCRIPTION:SixSigma ist ein Konzept zur kontinuierlichen Verbesserung\, um fehlerlose Produkte\, Prozesse und Dienstleistungen zu erreichen.\nDer Referent\, selbst "Master-Black-Belt"-Coach für Six Sigma\, berichtet über die Erfahrungen mit dieser  Philosophie.\nDr. Guenter Huehn\, Buna-Dow \, Schkopau\nProfessur Kunststoffverarbeitungstechnik\, Tel. 0371-531 8072\, kunststofftechnik@mb.tu-chemnitz.de
ORGANIZER:MAILTO:stefan.roth@mb.tu-chemnitz.de
UID:5760@www.tu-chemnitz.de
CREATED:20050114T140100Z
DTSTAMP:20210802T200404Z
END:VEVENT
END:VCALENDAR
