BEGIN:VCALENDAR
VERSION:2.0
PRODID:TU Chemnitz
METHOD:PUBLISH
X-WR-CALNAME:Veranstaltungen der TU Chemnitz
X-WR-TIMEZONE:Europe/Berlin
BEGIN:VEVENT
CLASS:PUBLIC
DTSTART;TZID="Europe/Berlin":20050117T091500
DTEND;TZID="Europe/Berlin":20050117T104500
LOCATION:Reichenhainer Str. 90\, Chemnitz (Zentr. Hörsaal- und Seminargebäude)
SUMMARY:Viva la Republica! - Ein Spanienkämpfer in Chemnitz (Philosophische Fakultät\, Lehrstuhl Neuere und Neueste Geschichte in Zusammenarbeit mit der Rosa- Luxemburg-Stiftung Sachsen e.V. und KFSR 1936-39 e.V.)
DESCRIPTION:Fritz Teppich - Jahrgang 1918 - war Interbrigadist im Kampf gegen den Faschismus in Spanien 1936-1939. Als Zeitzeuge berichtet er über den Krieg in Spanien und stellt sich den Fragen der Studenten.\nFritz Teppich - Kämpfer in den Internationalen Brigaden
ORGANIZER:MAILTO:tki@hrz.tu-chemnitz.de
UID:5754@www.tu-chemnitz.de
CREATED:20050112T173700Z
DTSTAMP:20210802T200406Z
END:VEVENT
END:VCALENDAR
