BEGIN:VCALENDAR
VERSION:2.0
PRODID:TU Chemnitz
METHOD:PUBLISH
X-WR-CALNAME:Veranstaltungen der TU Chemnitz
X-WR-TIMEZONE:Europe/Berlin
BEGIN:VEVENT
CLASS:PUBLIC
DTSTART;TZID="Europe/Berlin":20050112T190000
DTEND;TZID="Europe/Berlin":20050112T203000
LOCATION:Reichenhainer Str. 90\, Chemnitz (Zentr. Hörsaal- und Seminargebäude)
SUMMARY:GEZ - Diskussionsabend (LHG)
DESCRIPTION:Auf dem Podium:\nMartin  Deitenbeck\, Geschäftsführer der Sächsischen Landesanstalt für privaten Rundfunk und neue Medien\nTino Utassy\, Geschäftsführer von Radio Chemnitz\nEs gibt einen kleinen Einführungsvortrag und dann könnt ihr kontrovers diskutieren.\nwww.tu-chemnitz.de/lhg
ORGANIZER:MAILTO:Elisabeth@Eckstaedt.de
UID:5728@www.tu-chemnitz.de
CREATED:20050110T224900Z
DTSTAMP:20210802T200409Z
END:VEVENT
END:VCALENDAR
