BEGIN:VCALENDAR
VERSION:2.0
PRODID:TU Chemnitz
METHOD:PUBLISH
X-WR-CALNAME:Veranstaltungen der TU Chemnitz
X-WR-TIMEZONE:Europe/Berlin
BEGIN:VEVENT
CLASS:PUBLIC
DTSTART;TZID="Europe/Berlin":20051019T200000
DTEND;TZID="Europe/Berlin":20051019T200000
LOCATION:Reichenhainer Str. 55\, Chemnitz (Mensa)
SUMMARY:NEUE MENSA: 4 Jahre Partytempel Mensa (TaC)
DESCRIPTION:Die heiligen Hallen der Mensa werden 4 Jahre alt...auf\nalle Fälle sollte die Party eines der Highlights des \nJahres werden...mal sehen Band ist in Planung...\nwahrscheinlich Fiddlers Green !
ORGANIZER:MAILTO:made@hrz.tu-chemnitz.de
UID:5724@www.tu-chemnitz.de
CREATED:20050110T084500Z
DTSTAMP:20210802T195755Z
END:VEVENT
END:VCALENDAR
