BEGIN:VCALENDAR
VERSION:2.0
PRODID:TU Chemnitz
METHOD:PUBLISH
X-WR-CALNAME:Veranstaltungen der TU Chemnitz
X-WR-TIMEZONE:Europe/Berlin
BEGIN:VEVENT
CLASS:PUBLIC
DTSTART;TZID="Europe/Berlin":20050111T200000
DTEND;TZID="Europe/Berlin":20050111T200000
LOCATION:Reichenhainer Str. 55\, Chemnitz (Mensa)
SUMMARY:TaC: DIE 99-iger KNEIPE (TaC)
DESCRIPTION:Jou...lange nicht mehr da gewesen...die \nerste 99-iger Kneipe im neuen Jahr...großes Bier 99 Cent\,\nHeineken 99 Cent\, Smirnoff Ice 99 Cent\, bis 22:00 Uhr\nDooley´s 99 Cent und Special: Caipi bis 21:00 Uhr 99 Cent !!!
ORGANIZER:MAILTO:made@hrz.tu-chemnitz.de
UID:5723@www.tu-chemnitz.de
CREATED:20050110T083700Z
DTSTAMP:20210802T200404Z
END:VEVENT
END:VCALENDAR
