BEGIN:VCALENDAR
VERSION:2.0
PRODID:TU Chemnitz
METHOD:PUBLISH
X-WR-CALNAME:Veranstaltungen der TU Chemnitz
X-WR-TIMEZONE:Europe/Berlin
BEGIN:VEVENT
CLASS:PUBLIC
DTSTART;TZID="Europe/Berlin":20050131T210000
DTEND;TZID="Europe/Berlin":20050131T235900
LOCATION:Reichenhainer Str. 37/Keller
SUMMARY:60er/70er-Jahre-Kneipe im PEB (PEB-Studentenkeller)
DESCRIPTION:DJ Anne versüßt Euch den Wochenanfang mit dem Besten\, \nwas die 60er und 70er Jahre hervorgebracht haben!\n\nWir kümmern uns um Euren Durst nach\nleckeren und günstigen Getränken!
ORGANIZER:MAILTO:mahub@hrz.tu-chemnitz.de
UID:5718@www.tu-chemnitz.de
CREATED:20050108T171300Z
DTSTAMP:20210802T200412Z
END:VEVENT
END:VCALENDAR
