BEGIN:VCALENDAR
VERSION:2.0
PRODID:TU Chemnitz
METHOD:PUBLISH
X-WR-CALNAME:Veranstaltungen der TU Chemnitz
X-WR-TIMEZONE:Europe/Berlin
BEGIN:VEVENT
CLASS:PUBLIC
DTSTART;TZID="Europe/Berlin":20050125T210000
DTEND;TZID="Europe/Berlin":20050126T030000
LOCATION:Vettersstr. 70/72\, Chemnitz (Studentenwohnheim)
SUMMARY:> > > Chocolate Night by Black Area FPM < < < (FPM-Club)
DESCRIPTION:\nFinest Black Music\n\nMixed by Cypress\n\n  Ladies Special: Eine Schoco Colada gratis als Welcome Drink\n  Schokolade zum Essen gratis für alle\n  Lecker Cocktails & Cool Drinks\n\n
ORGANIZER:MAILTO:hoga@hrz.tu-chemnitz.de
UID:5716@www.tu-chemnitz.de
CREATED:20050106T195300Z
DTSTAMP:20210802T200404Z
END:VEVENT
END:VCALENDAR
