BEGIN:VCALENDAR
VERSION:2.0
PRODID:TU Chemnitz
METHOD:PUBLISH
X-WR-CALNAME:Veranstaltungen der TU Chemnitz
X-WR-TIMEZONE:Europe/Berlin
BEGIN:VEVENT
CLASS:PUBLIC
DTSTART;TZID="Europe/Berlin":20050124T210000
DTEND;TZID="Europe/Berlin":20050125T030000
LOCATION:Vettersstr. 70/72\, Chemnitz (Studentenwohnheim)
SUMMARY:> > > House of Blues < < < (FPM-Club)
DESCRIPTION:\nBlues\, Jazz\, Soul\n\nMixed by DJane Anne\n\nSpecial: Wein 0\,50 Euro billiger\n\n
ORGANIZER:MAILTO:hoga@hrz.tu-chemnitz.de
UID:5714@www.tu-chemnitz.de
CREATED:20050106T183900Z
DTSTAMP:20210802T200408Z
END:VEVENT
END:VCALENDAR
