BEGIN:VCALENDAR
VERSION:2.0
PRODID:TU Chemnitz
METHOD:PUBLISH
X-WR-CALNAME:Veranstaltungen der TU Chemnitz
X-WR-TIMEZONE:Europe/Berlin
BEGIN:VEVENT
CLASS:PUBLIC
DTSTART;TZID="Europe/Berlin":20050120T210000
DTEND;TZID="Europe/Berlin":20050121T030000
LOCATION:Vettersstr. 70/72\, Chemnitz (Studentenwohnheim)
SUMMARY:> > > No Pop < < < (FPM-Club)
DESCRIPTION:\nNu Metal & X-Over\n\nMixed by Dero\n\nSpecial: 4 Bier = 1 Schnaps gratis\n\n
ORGANIZER:MAILTO:hoga@hrz.tu-chemnitz.de
UID:5713@www.tu-chemnitz.de
CREATED:20050106T183800Z
DTSTAMP:20210802T200410Z
END:VEVENT
END:VCALENDAR
