BEGIN:VCALENDAR
VERSION:2.0
PRODID:TU Chemnitz
METHOD:PUBLISH
X-WR-CALNAME:Veranstaltungen der TU Chemnitz
X-WR-TIMEZONE:Europe/Berlin
BEGIN:VEVENT
CLASS:PUBLIC
DTSTART;TZID="Europe/Berlin":20050110T190000
DTEND;TZID="Europe/Berlin":20050110T210000
LOCATION:(geändert!!!) bei Kuhfuß\, Humboldstraße 19
SUMMARY:Treffen der Grünen Hochschulgruppe an der TU Chemnitz (Grüne Hochschulgruppe an der TU Chemnitz)
DESCRIPTION:Das neue Jahr wird geplant und ein neuer Vorstand gewählt. Willst du dich engagieren? Dann komm' vorbei oder schreib' uns.\ninfo@gruene-jugend-chemnitz.de
ORGANIZER:MAILTO:tika@hrz.tu-chemnitz.de
UID:5705@www.tu-chemnitz.de
CREATED:20050104T172600Z
DTSTAMP:20210802T200410Z
END:VEVENT
END:VCALENDAR
