BEGIN:VCALENDAR
VERSION:2.0
PRODID:TU Chemnitz
METHOD:PUBLISH
X-WR-CALNAME:Veranstaltungen der TU Chemnitz
X-WR-TIMEZONE:Europe/Berlin
BEGIN:VEVENT
CLASS:PUBLIC
DTSTART;TZID="Europe/Berlin":20050118T210000
DTEND;TZID="Europe/Berlin":20050118T230000
LOCATION:Vettersstr. 52/54\, Chemnitz (Studentenwohnheim)
SUMMARY:Live-Band im windKanal (windKanal)
DESCRIPTION: Die Jauchebiber spielen für euch live!
ORGANIZER:MAILTO:welz@hrz.tu-chemnitz.de
UID:5696@www.tu-chemnitz.de
CREATED:20050103T211800Z
DTSTAMP:20210802T200411Z
END:VEVENT
END:VCALENDAR
