BEGIN:VCALENDAR
VERSION:2.0
PRODID:TU Chemnitz
METHOD:PUBLISH
X-WR-CALNAME:Veranstaltungen der TU Chemnitz
X-WR-TIMEZONE:Europe/Berlin
BEGIN:VEVENT
CLASS:PUBLIC
DTSTART;TZID="Europe/Berlin":20050111T210000
DTEND;TZID="Europe/Berlin":20050111T230000
LOCATION:Vettersstr. 52/54\, Chemnitz (Studentenwohnheim)
SUMMARY:Dunkelmucke trifft Puschkin (windKanal)
DESCRIPTION: Musik von der dunklen Seite der Macht und dazu Puschkin in allen Farben
ORGANIZER:MAILTO:welz@hrz.tu-chemnitz.de
UID:5695@www.tu-chemnitz.de
CREATED:20050103T211600Z
DTSTAMP:20210802T200408Z
END:VEVENT
END:VCALENDAR
