BEGIN:VCALENDAR
VERSION:2.0
PRODID:TU Chemnitz
METHOD:PUBLISH
X-WR-CALNAME:Veranstaltungen der TU Chemnitz
X-WR-TIMEZONE:Europe/Berlin
BEGIN:VEVENT
CLASS:PUBLIC
DTSTART;TZID="Europe/Berlin":20050105T210000
DTEND;TZID="Europe/Berlin":20050106T020000
LOCATION:Reichenhainer Str. 35 \, Studentenkeller
SUMMARY:MITTWOCHSDISCO im PEB (PEB Studentenkeller)
DESCRIPTION:Und wir starten gleich ins neue Jahr wieder mit der \nlegendären Mittwochsdisco mit den leckersten und \ngünstigsten Cocktails auf dem Campus\, \nund Ihr seid dazu recht herzlich eingeladen. \n\nEuer PEB Studentenkeller
ORGANIZER:MAILTO:bil@hrz.tu-chemnitz.de
UID:5685@www.tu-chemnitz.de
CREATED:20050102T225300Z
DTSTAMP:20210802T200412Z
END:VEVENT
END:VCALENDAR
