BEGIN:VCALENDAR
VERSION:2.0
PRODID:TU Chemnitz
METHOD:PUBLISH
X-WR-CALNAME:Veranstaltungen der TU Chemnitz
X-WR-TIMEZONE:Europe/Berlin
BEGIN:VEVENT
CLASS:PUBLIC
DTSTART;TZID="Europe/Berlin":20050107T213000
DTEND;TZID="Europe/Berlin":20050108T020000
LOCATION:Reichenhainer Str. 35 \, Studentenkeller
SUMMARY:SALSA Abend im PEB (PEB Studentenkeller)
DESCRIPTION:Und wieder laden wir alle Freunde der Lateinamerikaischen\nMusik zum Tanzen und Feiern ein. Es gibt Cocktails und \nviele weitere leckere Getränke zu studentenfreundlichen Preisen.\n\nkostenloser Tanzkurs ab 21.30 Uhr \nEuer Peb Studentenkeller!
ORGANIZER:MAILTO:bil@hrz.tu-chemnitz.de
UID:5683@www.tu-chemnitz.de
CREATED:20050102T224900Z
DTSTAMP:20210802T200411Z
END:VEVENT
END:VCALENDAR
