BEGIN:VCALENDAR
VERSION:2.0
PRODID:TU Chemnitz
METHOD:PUBLISH
X-WR-CALNAME:Veranstaltungen der TU Chemnitz
X-WR-TIMEZONE:Europe/Berlin
BEGIN:VEVENT
CLASS:PUBLIC
DTSTART;TZID="Europe/Berlin":20050110T210000
DTEND;TZID="Europe/Berlin":20050110T230000
LOCATION:Reichenhainer Str. 37 \, Studentenkeller
SUMMARY:MONTAGSKNEIPE im PEB (PEB Studentenkeller)
DESCRIPTION:Montagskneipe\, das heißt\,wie gewöhnt bekommt Ihr euer\nLieblingsgetränk zu studentenfreundlichen Preisen \negal ob Bier ob Wein oder alkoholfreie Leckereien. \nWir freuen uns auf Euch!\nEuer Peb Studentenkeller.
ORGANIZER:MAILTO:bil@hrz.tu-chemnitz.de
UID:5679@www.tu-chemnitz.de
CREATED:20050102T223900Z
DTSTAMP:20210802T200401Z
END:VEVENT
END:VCALENDAR
