BEGIN:VCALENDAR
VERSION:2.0
PRODID:TU Chemnitz
METHOD:PUBLISH
X-WR-CALNAME:Veranstaltungen der TU Chemnitz
X-WR-TIMEZONE:Europe/Berlin
BEGIN:VEVENT
CLASS:PUBLIC
DTSTART;TZID="Europe/Berlin":20050104T200000
DTEND;TZID="Europe/Berlin":20050104T235900
LOCATION:Reichenhainer Str. 55\, Chemnitz (Mensa)
SUMMARY:TaC: Jahres-Eröffnungskneipe zu 99 Cent (TaC)
DESCRIPTION:Jahreseröffnungskneipe im TaC mit großem Bier zu 99 Cent\, Smirnoff Ice zu 99 Cent\, und bis 21: Uhr Happy Hour Caipi zu 1\,99 EUR...dazu Billiard und dart for free..Tischkicker Spiel 2 und bekomm 1 Spiel frei..kommt vorbei !!
ORGANIZER:MAILTO:made@hrz.tu-chemnitz.de
UID:5677@www.tu-chemnitz.de
CREATED:20050102T175600Z
DTSTAMP:20210802T200405Z
END:VEVENT
END:VCALENDAR
