BEGIN:VCALENDAR
VERSION:2.0
PRODID:TU Chemnitz
METHOD:PUBLISH
X-WR-CALNAME:Veranstaltungen der TU Chemnitz
X-WR-TIMEZONE:Europe/Berlin
BEGIN:VEVENT
CLASS:PUBLIC
DTSTART;TZID="Europe/Berlin":20041231T190000
DTEND;TZID="Europe/Berlin":20050101T020000
LOCATION:Reichenhainer Str. 55\, Chemnitz (Mensa)
SUMMARY:Silvesterparty im TaC - Eintritt frei (TaC)
DESCRIPTION:Wir haben ein bissel was geändert ... Eintritt ist frei..studentische Getränkepreise bleiben...die Karten gekauft haben bekommen das Geld zurück....wer gern mitfeiern möchte kann gern vorbeischauen ... \n
ORGANIZER:MAILTO:made@hrz.tu-chemnitz
UID:5670@www.tu-chemnitz.de
CREATED:20041223T100800Z
DTSTAMP:20210802T200422Z
END:VEVENT
END:VCALENDAR
